BEGIN:VCALENDAR
VERSION:2.0
PRODID:-//Hornsby Park - ECPv6.15.20//NONSGML v1.0//EN
CALSCALE:GREGORIAN
METHOD:PUBLISH
X-WR-CALNAME:Hornsby Park
X-ORIGINAL-URL:https://hornsbypark.com.au
X-WR-CALDESC:Events for Hornsby Park
REFRESH-INTERVAL;VALUE=DURATION:PT1H
X-Robots-Tag:noindex
X-PUBLISHED-TTL:PT1H
BEGIN:VTIMEZONE
TZID:Australia/Sydney
BEGIN:STANDARD
TZOFFSETFROM:+1100
TZOFFSETTO:+1000
TZNAME:AEST
DTSTART:20250405T160000
END:STANDARD
BEGIN:DAYLIGHT
TZOFFSETFROM:+1000
TZOFFSETTO:+1100
TZNAME:AEDT
DTSTART:20251004T160000
END:DAYLIGHT
BEGIN:STANDARD
TZOFFSETFROM:+1100
TZOFFSETTO:+1000
TZNAME:AEST
DTSTART:20260404T160000
END:STANDARD
BEGIN:DAYLIGHT
TZOFFSETFROM:+1000
TZOFFSETTO:+1100
TZNAME:AEDT
DTSTART:20261003T160000
END:DAYLIGHT
BEGIN:STANDARD
TZOFFSETFROM:+1100
TZOFFSETTO:+1000
TZNAME:AEST
DTSTART:20270403T160000
END:STANDARD
BEGIN:DAYLIGHT
TZOFFSETFROM:+1000
TZOFFSETTO:+1100
TZNAME:AEDT
DTSTART:20271002T160000
END:DAYLIGHT
END:VTIMEZONE
BEGIN:VEVENT
DTSTART;TZID=Australia/Sydney:20260415T090000
DTEND;TZID=Australia/Sydney:20260415T120000
DTSTAMP:20260424T050902
CREATED:20260401T044522Z
LAST-MODIFIED:20260409T224218Z
UID:5872-1776243600-1776254400@hornsbypark.com.au
SUMMARY:School Holiday Worms\, Waste & Wonder at Hornsby Park
DESCRIPTION:Get ready for a fun school holiday adventure at the newly opened Hornsby Park! \nKeep an eye out for the bright orange Waste Education Van and come say hello. Kids and families can dive into the fascinating world of worm farming with live demonstrations that show how food scraps can be transformed into nutrient-rich goodness for your garden. \nCurious about recycling? Not sure what goes in which bin? Our friendly team is there to help. Drop by to ask your questions\, learn simple waste-wise tips\, and discover easy ways to make a difference at home. \n🌱 Watch worms in action\n♻️ Get expert advice on waste and recycling\n📚 Take home handy resources and tips \nIt’s fun\, educational\, and perfect for curious young minds. Come along\, get involved\, and be inspired to turn waste into something wonderful!
URL:https://hornsbypark.com.au/event/school-holiday-worms-waste-wonder-at-hornsby-park/
LOCATION:Crusher Plant Precinct\, Hornsby Park\, 1 Quarry Road\, Hornsby\, NSW\, 2077\, Australia
CATEGORIES:Crusher Plant Precinct
ATTACH;FMTTYPE=image/jpeg:https://hornsbypark.com.au/wp-content/uploads/2026/04/Hornsbypark-8-April-2026-4-scaled.jpeg
END:VEVENT
END:VCALENDAR